BEGIN:VCALENDAR
VERSION:2.0
PRODID:icalendar-ruby
CALSCALE:GREGORIAN
METHOD:PUBLISH
BEGIN:VEVENT
DTSTAMP:20260425T134921Z
UID:244-515692@ctabchurch.org
DTSTART:20260804T160000Z
DTEND:20260901T170000Z
CLASS:PUBLIC
CREATED:20260425T094707
DESCRIPTION:Come join us for Noonday Bible Study as we gather to grow in Go
 d’s Word and be refreshed in His presence\, and we’d love to have you 
 with us as we’re encouraged\, strengthened\, and uplifted in Christ.
LAST-MODIFIED:20260425T094707
LOCATION:
SUMMARY:Noon Bible Study
URL;VALUE=URI:https://www.ctabchurch.org/events/noon-bible-study--244/2026-
 08-04
ATTACH;FILENAME=NoonBibleStudy APRIL.jpg;FMTTYPE=image/jpeg:https://dq5pwpg
 1q8ru0.cloudfront.net/2026/03/31/20/48/56/a7832844-468c-4c90-b82a-939c0738
 822a/NoonBibleStudy%20APRIL.jpg
END:VEVENT
END:VCALENDAR
